BEGIN:VCALENDAR
VERSION:2.0
PRODID:-//Rita McGrath - ECPv6.15.20//NONSGML v1.0//EN
CALSCALE:GREGORIAN
METHOD:PUBLISH
X-WR-CALNAME:Rita McGrath
X-ORIGINAL-URL:https://www.ritamcgrath.com
X-WR-CALDESC:Events for Rita McGrath
REFRESH-INTERVAL;VALUE=DURATION:PT1H
X-Robots-Tag:noindex
X-PUBLISHED-TTL:PT1H
BEGIN:VTIMEZONE
TZID:America/New_York
BEGIN:DAYLIGHT
TZOFFSETFROM:-0500
TZOFFSETTO:-0400
TZNAME:EDT
DTSTART:20240310T070000
END:DAYLIGHT
BEGIN:STANDARD
TZOFFSETFROM:-0400
TZOFFSETTO:-0500
TZNAME:EST
DTSTART:20241103T060000
END:STANDARD
BEGIN:DAYLIGHT
TZOFFSETFROM:-0500
TZOFFSETTO:-0400
TZNAME:EDT
DTSTART:20250309T070000
END:DAYLIGHT
BEGIN:STANDARD
TZOFFSETFROM:-0400
TZOFFSETTO:-0500
TZNAME:EST
DTSTART:20251102T060000
END:STANDARD
BEGIN:DAYLIGHT
TZOFFSETFROM:-0500
TZOFFSETTO:-0400
TZNAME:EDT
DTSTART:20260308T070000
END:DAYLIGHT
BEGIN:STANDARD
TZOFFSETFROM:-0400
TZOFFSETTO:-0500
TZNAME:EST
DTSTART:20261101T060000
END:STANDARD
END:VTIMEZONE
BEGIN:VEVENT
DTSTART;VALUE=DATE:20250908
DTEND;VALUE=DATE:20250910
DTSTAMP:20260423T124450
CREATED:20250825T154928Z
LAST-MODIFIED:20250825T154928Z
UID:11527-1757289600-1757462399@www.ritamcgrath.com
SUMMARY:Norwegian University of Science & Technology Symposium
DESCRIPTION:This is an academic gathering that brings together researchers\, industry experts\, and students to discuss the latest innovations and developments in science and technology. It provides a platform for knowledge exchange\, collaboration\, and networking across various fields\, fostering advancements in research and education.
URL:https://www.ritamcgrath.com/event/norwegian-university-of-science-technology-symposium/
ATTACH;FMTTYPE=image/jpeg:https://www.ritamcgrath.com/wp-content/uploads/2021/03/rmg_placeholder_color.jpg
END:VEVENT
END:VCALENDAR