BEGIN:VCALENDAR
VERSION:2.0
PRODID:-//Rita McGrath - ECPv6.15.20//NONSGML v1.0//EN
CALSCALE:GREGORIAN
METHOD:PUBLISH
X-WR-CALNAME:Rita McGrath
X-ORIGINAL-URL:https://www.ritamcgrath.com
X-WR-CALDESC:Events for Rita McGrath
REFRESH-INTERVAL;VALUE=DURATION:PT1H
X-Robots-Tag:noindex
X-PUBLISHED-TTL:PT1H
BEGIN:VTIMEZONE
TZID:America/New_York
BEGIN:DAYLIGHT
TZOFFSETFROM:-0500
TZOFFSETTO:-0400
TZNAME:EDT
DTSTART:20240310T070000
END:DAYLIGHT
BEGIN:STANDARD
TZOFFSETFROM:-0400
TZOFFSETTO:-0500
TZNAME:EST
DTSTART:20241103T060000
END:STANDARD
BEGIN:DAYLIGHT
TZOFFSETFROM:-0500
TZOFFSETTO:-0400
TZNAME:EDT
DTSTART:20250309T070000
END:DAYLIGHT
BEGIN:STANDARD
TZOFFSETFROM:-0400
TZOFFSETTO:-0500
TZNAME:EST
DTSTART:20251102T060000
END:STANDARD
BEGIN:DAYLIGHT
TZOFFSETFROM:-0500
TZOFFSETTO:-0400
TZNAME:EDT
DTSTART:20260308T070000
END:DAYLIGHT
BEGIN:STANDARD
TZOFFSETFROM:-0400
TZOFFSETTO:-0500
TZNAME:EST
DTSTART:20261101T060000
END:STANDARD
END:VTIMEZONE
BEGIN:VEVENT
DTSTART;VALUE=DATE:20250926
DTEND;VALUE=DATE:20250927
DTSTAMP:20260423T141612
CREATED:20250825T155501Z
LAST-MODIFIED:20250825T155501Z
UID:11533-1758844800-1758931199@www.ritamcgrath.com
SUMMARY:BE WOMAN
DESCRIPTION:This event brings together hundreds of influential women\, from entrepreneurs and corporate executives to social activists and government figures. The Forum focuses on women’s leadership\, business innovation\, and social investment\, emphasizing practical strategies and cross-border collaboration.
URL:https://www.ritamcgrath.com/event/be-woman/
ATTACH;FMTTYPE=image/jpeg:https://www.ritamcgrath.com/wp-content/uploads/2021/03/rmg_placeholder_color.jpg
END:VEVENT
END:VCALENDAR